BEGIN:VCALENDAR
VERSION:2.0
BEGIN:VEVENT
URL:https://crowbarsyd.oztix.com.au/outlet/event/a143d467-8a6e-4a03-91e3-c3e2ff6e7e0d
DTSTART:20260612T090000Z
DTEND:20260612T090000Z
SUMMARY:Australian PANTERA Show + Fake No More + Sludge Factory - Alice In Chains Tribute
DESCRIPTION:Event details: https://crowbarsyd.oztix.com.au/outlet/event/a143d467-8a6e-4a03-91e3-c3e2ff6e7e0d
LOCATION:Crowbar Sydney (Leichhardt, NSW)
END:VEVENT
END:VCALENDAR